BEGIN:VCALENDAR
VERSION:2.0
PRODID:-//Plone.org//NONSGML plone.app.event//EN
X-WR-TIMEZONE:US/Eastern
BEGIN:VEVENT
SUMMARY:Lawrence Memorial District Library Board Meeting
DTSTART;TZID=US/Eastern:20250624T190000
DTEND;TZID=US/Eastern:20250624T210000
DTSTAMP:20260419T201614Z
UID:d1367722abf54b61a7970897bde4f052@saas_stack_varnish:6080
CONTACT:269 746-4125
CREATED:20250124T150546Z
DESCRIPTION:In person at the Lawrence Memorial District Library\, In the H
 istorical room 107 North Main Street Climax MI.
LAST-MODIFIED:20250124T150556Z
LOCATION:107 North Main Street
URL:https://www.lawrencememorialdistrictlibrary.org/lawrence-memorial-dist
 rict-library-board-meeting-7
END:VEVENT
BEGIN:VTIMEZONE
TZID:US/Eastern
X-LIC-LOCATION:US/Eastern
BEGIN:DAYLIGHT
DTSTART:20250309T030000
TZNAME:EDT
TZOFFSETFROM:-0500
TZOFFSETTO:-0400
END:DAYLIGHT
END:VTIMEZONE
END:VCALENDAR
