BEGIN:VCALENDAR
VERSION:2.0
PRODID:-//Plone.org//NONSGML plone.app.event//EN
X-WR-TIMEZONE:US/Eastern
BEGIN:VEVENT
SUMMARY:Sen. Albert's office hours\, At the Local Lawrence Memorial Distri
 ct Library
DTSTART;TZID=US/Eastern:20240318T103000
DTEND;TZID=US/Eastern:20240318T113000
DTSTAMP:20260421T010355Z
UID:4d3a03243e27426f99352947073a1dfd@saas_stack_varnish:6080
CREATED:20240305T213005Z
DESCRIPTION:Monday\, March 18th from 10:30-11:30 am at Lawrence Memorial L
 ibrary. Office hours are open to district residents to talk about issues r
 elated to state government or to request assistance with a state issue.
LAST-MODIFIED:20240306T184646Z
LOCATION:Lawrence Memorial District Library
URL:https://www.lawrencememorialdistrictlibrary.org/news-events/sen-albert
 s-office-hours-at-the-local-lawrence-memorial-district-library
END:VEVENT
BEGIN:VTIMEZONE
TZID:US/Eastern
X-LIC-LOCATION:US/Eastern
BEGIN:DAYLIGHT
DTSTART:20240310T030000
TZNAME:EDT
TZOFFSETFROM:-0500
TZOFFSETTO:-0400
END:DAYLIGHT
END:VTIMEZONE
END:VCALENDAR
